BEGIN:VCALENDAR
PRODID:NingEventWidget-v1
VERSION:2.0
METHOD:PUBLISH
BEGIN:VTIMEZONE
TZID:America/New_York
X-LIC-LOCATION:America/New_York
BEGIN:DAYLIGHT
TZOFFSETFROM:-0500
TZOFFSETTO:-0400
TZNAME:EDT
DTSTART:19700308T020000
RRULE:FREQ=YEARLY;BYMONTH=3;BYDAY=2SU
END:DAYLIGHT
BEGIN:STANDARD
TZOFFSETFROM:-0400
TZOFFSETTO:-0500
TZNAME:EST
DTSTART:19701101T020000
RRULE:FREQ=YEARLY;BYMONTH=11;BYDAY=1SU
END:STANDARD
END:VTIMEZONE
BEGIN:VEVENT
UID:2605498:Event:42444
DTSTAMP:20260422T230218Z
SUMMARY:Experience The Bars-A Taste Of Access Consciousness
DESCRIPTION:You are invited to attend a live, \"Access Bars Taster\"\n
 Are You Ready to Finally BE & BECOME YOU? Are You Ready to BE the Chan
 ge You Seek In Others?\nAre You Ready To Destroy & Uncreate What is no
  longer working for you?\nWhat are Access Bars?\nThere are 32 bars of 
 energy that run through and around your head. They store the electroma
 gnetic component of all the thoughts, ideas, attitudes, decisions and 
 beliefs that you have ever had about anything.\nIt's a \"BARS TASTER\"
 \nWe invite you to experience our 2 hour healing session. An opportuni
 ty to explore with what it is to get your bars run. (it's like deletin
 g your computer files but for your mind).. An Amazing experience!\nJoi
 n us in a celebrating yourself and life in a whole other way. Let us s
 how you how!\nEVERYONE WILL GIFT & RECEIVE 1 BARS SESSION & CLEARING M
 ANTRAS TO PRACTICE AT HOME!\nFor more information, please visit: www.a
 ccessconsciousness.com & www.bars.accessconsciousness.com\nExchange-$3
 0 In Advance-Follow This Link To Register: https://www.paypal.com/cgi-
 bin/webscr?cmd=_s-xclick&hosted_button_id=QNTMCZ2AC9XTQ\nIn Ease, Joy,
  & Glory,\nMeryl Vandana Brinin Bars Access Facilitator\n\nFor more in
 formation visit https://efttapfest2009.ning.com/events/experience-the-
 bars-a-taste-of-access-consciousness
DTSTART;TZID=America/New_York:20120131T190000
DTEND;TZID=America/New_York:20120131T210000
CATEGORIES:transformational, energy, healing
LOCATION:Brooklyn Location
WEBSITE:http://vandanalighthealing.vpweb.com
URL:http://vandanalighthealing.vpweb.com
CONTACT:917-301-6560
ORGANIZER;CN="Meryl Vandana Brinin":https://efttapfest2009.ning.com/pr
 ofile/MerylVandanaBrinin
ATTACH;FMTTYPE="image/jpeg":http://storage.ning.com/topology/rest/1.0/
 file/get/2021338152?profile=original
ATTENDEE;ROLE=REQ-PARTICIPANT;PARTSTAT=ACCEPTED;RSVP=TRUE;CN="Meryl Va
 ndana Brinin":https://efttapfest2009.ning.com/profile/MerylVandanaBrin
 in
END:VEVENT
END:VCALENDAR
